BEGIN:VCALENDAR
VERSION:2.0
PRODID:https://www.vivicta.com/
BEGIN:VEVENT
UID:https://www.vivicta.com/no/arrangementer/20262/attack-konferansen/
DTSTAMP:20260420T234327Z
DTSTART:20261013T060000Z
DTEND:20261013T160000Z
SUMMARY:Attack konferansen
LOCATION:
END:VEVENT
END:VCALENDAR
